BEGIN:VCALENDAR
VERSION:2.0
PRODID:-//eventon.com NONSGML v1.0//EN
CALSCALE:GREGORIAN
METHOD:PUBLISH
BEGIN:VEVENT
UID:69e77cfd320cf
DTSTAMP:20260421T133453Z
DTSTART:20221008T140000Z
DTEND:20221008T180000Z
LOCATION:NCMNS Greenville 226 W 8th St.\,  Greenville\,  NC 27834
SUMMARY:A Time for Science Expo 2022
DESCRIPTION:Join us for the 6th annual A Time for Science Expo. Every year 
 over 40 exhibitors from all over Eastern North Carolina set up at The Museu
 m to provided exciting\,  hands-on activities for learners of all ages. Its
  time to get excited about science in downtown Greenville.\nhttps://atimefo
 rscience.org/events/a-time-for-science-expo-2022/
URL:https://atimeforscience.org/events/a-time-for-science-expo-2022/
END:VEVENT
END:VCALENDAR